BEGIN:VCALENDAR
VERSION:2.0
METHOD:PUBLISH
PRODID:-//kindex.ch//Eventboerse//DE
BEGIN:VEVENT
DTSTART;VALUE=DATE:20260926
URL:https://www.kindex.ch/adliswil/kinderkleiderboerse-adliswil
DTSTAMP:20260926
CATEGORIES:
TRANSP:OPAQUE
SEQUENCE:0
UID:209-1777076588-377054678
CREATED:20260425T022308
SUMMARY:Kinderkleiderbörse Adliswil
LOCATION:Kirchgemeindehaus Adliswil
DESCRIPTION:Am 26.09.2026 findet die Eventbörse 'Kinderkleiderbörse Adliswil' in Adliswil statt.\n\nBitte informieren Sie sich kurz vorher über die genauen Event-Daten. Zeit und Ort können sich manchmal kurzfristig ändern.\n\nWeitere Details siehe https://www.kindex.ch/adliswil/kinderkleiderboerse-adliswil\n\nFür die aktuellsten Infos sehen Sie auf der Webseite des Börsenbetreibers nach: http://www.boerse-adliswil.ch
BEGIN:VALARM
TRIGGER:-PT15H
REPEAT:1
DURATION:PT15M
ACTION:DISPLAY
DESCRIPTION:Erinnerung
END:VALARM
END:VEVENT
END:VCALENDAR