BEGIN:VCALENDAR
VERSION:2.0
METHOD:PUBLISH
PRODID:-//kindex.ch//Eventboerse//DE
BEGIN:VEVENT
DTSTART;VALUE=DATE:20260919
URL:https://www.kindex.ch/beromuenster/kids-store
DTSTAMP:20260919
CATEGORIES:
TRANSP:OPAQUE
SEQUENCE:0
UID:1168-1776652151-873310605
CREATED:20260420T042911
SUMMARY:Kids Store - Flohmarkt für Kinderartikel
LOCATION:Mehrzweckhalle Beromünster Beromünster
DESCRIPTION:Am 19.09.2026 findet die Eventbörse 'Kids Store - Flohmarkt für Kinderartikel' in Beromünster statt.\n\nBitte informieren Sie sich kurz vorher über die genauen Event-Daten. Zeit und Ort können sich manchmal kurzfristig ändern.\n\nWeitere Details siehe https://www.kindex.ch/beromuenster/kids-store\n\nFür die aktuellsten Infos sehen Sie auf der Webseite des Börsenbetreibers nach: http://www.familientreff-beromuenster.ch
BEGIN:VALARM
TRIGGER:-PT15H
REPEAT:1
DURATION:PT15M
ACTION:DISPLAY
DESCRIPTION:Erinnerung
END:VALARM
END:VEVENT
END:VCALENDAR