BEGIN:VCALENDAR
VERSION:2.0
METHOD:PUBLISH
PRODID:-//kindex.ch//Eventboerse//DE
BEGIN:VEVENT
DTSTART;VALUE=DATE:20260509
URL:https://www.kindex.ch/buchs-zh/kinderartikelboerse-buchs
DTSTAMP:20260509
CATEGORIES:
TRANSP:OPAQUE
SEQUENCE:0
UID:520-1776629979-218904540
CREATED:20260419T221939
SUMMARY:Kinderartikelbörse Buchs
LOCATION:Gemeindesaal, Pemo Arena Buchs ZH
DESCRIPTION:Am 09.05.2026 findet die Eventbörse 'Kinderartikelbörse Buchs' in Buchs ZH statt.\n\nBitte informieren Sie sich kurz vorher über die genauen Event-Daten. Zeit und Ort können sich manchmal kurzfristig ändern.\n\nWeitere Details siehe https://www.kindex.ch/buchs-zh/kinderartikelboerse-buchs\n\nFür die aktuellsten Infos sehen Sie auf der Webseite des Börsenbetreibers nach: http://www.boerse-buchszh.jimdo.com
BEGIN:VALARM
TRIGGER:-PT15H
REPEAT:1
DURATION:PT15M
ACTION:DISPLAY
DESCRIPTION:Erinnerung
END:VALARM
END:VEVENT
END:VCALENDAR