BEGIN:VCALENDAR
VERSION:2.0
METHOD:PUBLISH
PRODID:-//kindex.ch//Eventboerse//DE
BEGIN:VEVENT
DTSTART;VALUE=DATE:20261024
URL:https://www.kindex.ch/jona/kinderkleiderboerse1
DTSTAMP:20261024
CATEGORIES:
TRANSP:OPAQUE
SEQUENCE:0
UID:1060-1777018926-113296006
CREATED:20260424T102206
SUMMARY:Kinderwaren Börse
LOCATION:Kath. Kirchgemeindehaus Jona Jona
DESCRIPTION:Am 24.10.2026 findet die Eventbörse 'Kinderwaren Börse' in Jona statt.\n\nBitte informieren Sie sich kurz vorher über die genauen Event-Daten. Zeit und Ort können sich manchmal kurzfristig ändern.\n\nWeitere Details siehe https://www.kindex.ch/jona/kinderkleiderboerse1\n\nFür die aktuellsten Infos sehen Sie auf der Webseite des Börsenbetreibers nach: https://www.fg-jona.ch
BEGIN:VALARM
TRIGGER:-PT15H
REPEAT:1
DURATION:PT15M
ACTION:DISPLAY
DESCRIPTION:Erinnerung
END:VALARM
END:VEVENT
END:VCALENDAR