BEGIN:VCALENDAR
VERSION:2.0
METHOD:PUBLISH
PRODID:-//kindex.ch//Eventboerse//DE
BEGIN:VEVENT
DTSTART;VALUE=DATE:20260916
URL:https://www.kindex.ch/oberwil-b-zug/kinder-artikel-boerse-oberwil
DTSTAMP:20260916
CATEGORIES:
TRANSP:OPAQUE
SEQUENCE:0
UID:613-1776955076-1126043682
CREATED:20260423T163756
SUMMARY:Kinder-Artikel-Börse Oberwil
LOCATION:Pfarreisaal; unterhalb Kirche Bruder Klaus Oberwil b. Zug
DESCRIPTION:Am 16.09.2026 findet die Eventbörse 'Kinder-Artikel-Börse Oberwil' in Oberwil b. Zug statt.\n\nBitte informieren Sie sich kurz vorher über die genauen Event-Daten. Zeit und Ort können sich manchmal kurzfristig ändern.\n\nWeitere Details siehe https://www.kindex.ch/oberwil-b-zug/kinder-artikel-boerse-oberwil\n\n
BEGIN:VALARM
TRIGGER:-PT15H
REPEAT:1
DURATION:PT15M
ACTION:DISPLAY
DESCRIPTION:Erinnerung
END:VALARM
END:VEVENT
END:VCALENDAR