BEGIN:VCALENDAR
VERSION:2.0
METHOD:PUBLISH
PRODID:-//kindex.ch//Eventboerse//DE
BEGIN:VEVENT
DTSTART;VALUE=DATE:20260909
URL:https://www.kindex.ch/unteraegeri/kinderartikelboerse
DTSTAMP:20260909
CATEGORIES:
TRANSP:OPAQUE
SEQUENCE:0
UID:676-1776955241-1071773838
CREATED:20260423T164041
SUMMARY:Kinderartikelbörse
LOCATION:Aegerihalle Unterägeri
DESCRIPTION:Am 09.09.2026 findet die Eventbörse 'Kinderartikelbörse' in Unterägeri statt.\n\nBitte informieren Sie sich kurz vorher über die genauen Event-Daten. Zeit und Ort können sich manchmal kurzfristig ändern.\n\nWeitere Details siehe https://www.kindex.ch/unteraegeri/kinderartikelboerse\n\nFür die aktuellsten Infos sehen Sie auf der Webseite des Börsenbetreibers nach: https://frauengemeinschaft-unteraegeri.ch/agenda
BEGIN:VALARM
TRIGGER:-PT15H
REPEAT:1
DURATION:PT15M
ACTION:DISPLAY
DESCRIPTION:Erinnerung
END:VALARM
END:VEVENT
END:VCALENDAR