BEGIN:VCALENDAR
VERSION:2.0
METHOD:PUBLISH
PRODID:-//kindex.ch//Eventboerse//DE
BEGIN:VEVENT
DTSTART;VALUE=DATE:20260916
URL:https://www.kindex.ch/winterthur/kinderkleider-und-spielzeugboerse-seen
DTSTAMP:20260916
CATEGORIES:
TRANSP:OPAQUE
SEQUENCE:0
UID:896-1776875717-1474079523
CREATED:20260422T183517
SUMMARY:Kinderkleider- und Spielzeugbörse Seen
LOCATION:ref. Kirchgemeindehaus Winterthur-Seen Winterthur
DESCRIPTION:Am 16.09.2026 findet die Eventbörse 'Kinderkleider- und Spielzeugbörse Seen' in Winterthur statt.\n\nBitte informieren Sie sich kurz vorher über die genauen Event-Daten. Zeit und Ort können sich manchmal kurzfristig ändern.\n\nWeitere Details siehe https://www.kindex.ch/winterthur/kinderkleider-und-spielzeugboerse-seen\n\nFür die aktuellsten Infos sehen Sie auf der Webseite des Börsenbetreibers nach: https://www.seenboerse.ch
BEGIN:VALARM
TRIGGER:-PT15H
REPEAT:1
DURATION:PT15M
ACTION:DISPLAY
DESCRIPTION:Erinnerung
END:VALARM
END:VEVENT
END:VCALENDAR