BEGIN:VCALENDAR
VERSION:2.0
METHOD:PUBLISH
PRODID:-//kindex.ch//Eventboerse//DE
BEGIN:VEVENT
DTSTART;VALUE=DATE:20260926
URL:https://www.kindex.ch/zug/kinderartikelboerse-herti
DTSTAMP:20260926
CATEGORIES:
TRANSP:OPAQUE
SEQUENCE:0
UID:455-1776955362-1230009683
CREATED:20260423T164242
SUMMARY:Kinderartikelbörse Herti
LOCATION:Pfarreiheim St. Johannes / Untergeschoss Zug
DESCRIPTION:Am 26.09.2026 findet die Eventbörse 'Kinderartikelbörse Herti' in Zug statt.\n\nBitte informieren Sie sich kurz vorher über die genauen Event-Daten. Zeit und Ort können sich manchmal kurzfristig ändern.\n\nWeitere Details siehe https://www.kindex.ch/zug/kinderartikelboerse-herti\n\nFür die aktuellsten Infos sehen Sie auf der Webseite des Börsenbetreibers nach: https://kinderartikelboerse-herti.jimdosite.com
BEGIN:VALARM
TRIGGER:-PT15H
REPEAT:1
DURATION:PT15M
ACTION:DISPLAY
DESCRIPTION:Erinnerung
END:VALARM
END:VEVENT
END:VCALENDAR